BEGIN:VCALENDAR
VERSION:2.0
PRODID:-//Upper Merion Area Democratic Committee - ECPv6.15.19//NONSGML v1.0//EN
CALSCALE:GREGORIAN
METHOD:PUBLISH
X-WR-CALNAME:Upper Merion Area Democratic Committee
X-ORIGINAL-URL:https://umdems.org
X-WR-CALDESC:Events for Upper Merion Area Democratic Committee
REFRESH-INTERVAL;VALUE=DURATION:PT1H
X-Robots-Tag:noindex
X-PUBLISHED-TTL:PT1H
BEGIN:VTIMEZONE
TZID:UTC
BEGIN:STANDARD
TZOFFSETFROM:+0000
TZOFFSETTO:+0000
TZNAME:UTC
DTSTART:20230101T000000
END:STANDARD
END:VTIMEZONE
BEGIN:VTIMEZONE
TZID:America/New_York
BEGIN:DAYLIGHT
TZOFFSETFROM:-0500
TZOFFSETTO:-0400
TZNAME:EDT
DTSTART:20220313T070000
END:DAYLIGHT
BEGIN:STANDARD
TZOFFSETFROM:-0400
TZOFFSETTO:-0500
TZNAME:EST
DTSTART:20221106T060000
END:STANDARD
BEGIN:DAYLIGHT
TZOFFSETFROM:-0500
TZOFFSETTO:-0400
TZNAME:EDT
DTSTART:20230312T070000
END:DAYLIGHT
BEGIN:STANDARD
TZOFFSETFROM:-0400
TZOFFSETTO:-0500
TZNAME:EST
DTSTART:20231105T060000
END:STANDARD
BEGIN:DAYLIGHT
TZOFFSETFROM:-0500
TZOFFSETTO:-0400
TZNAME:EDT
DTSTART:20240310T070000
END:DAYLIGHT
BEGIN:STANDARD
TZOFFSETFROM:-0400
TZOFFSETTO:-0500
TZNAME:EST
DTSTART:20241103T060000
END:STANDARD
BEGIN:DAYLIGHT
TZOFFSETFROM:-0500
TZOFFSETTO:-0400
TZNAME:EDT
DTSTART:20250309T070000
END:DAYLIGHT
BEGIN:STANDARD
TZOFFSETFROM:-0400
TZOFFSETTO:-0500
TZNAME:EST
DTSTART:20251102T060000
END:STANDARD
END:VTIMEZONE
BEGIN:VEVENT
DTSTART;TZID=UTC:20240325T193000
DTEND;TZID=UTC:20240325T203000
DTSTAMP:20260421T161706
CREATED:20231205T004459Z
LAST-MODIFIED:20231205T004500Z
UID:2072-1711395000-1711398600@umdems.org
SUMMARY:UMADC Monthly Business Meeting
DESCRIPTION:Come join us at our monthly meeting to learn about upcoming elections\, candidates for office\, and local events.
URL:https://umdems.org/event/umadc-monthly-business-meeting-3/
LOCATION:Good Shepherd Lutheran Church\, 132 E Valley Forge Rd\, King of Prussia\, 19406\, United States
END:VEVENT
BEGIN:VEVENT
DTSTART;TZID=UTC:20240226T193000
DTEND;TZID=UTC:20240226T203000
DTSTAMP:20260421T161706
CREATED:20231205T004414Z
LAST-MODIFIED:20231205T004414Z
UID:2067-1708975800-1708979400@umdems.org
SUMMARY:UMADC Monthly Business Meeting
DESCRIPTION:Come join us at our monthly meeting to learn about upcoming elections\, candidates for office\, and local events.
URL:https://umdems.org/event/umadc-monthly-business-meeting-2/
LOCATION:Good Shepherd Lutheran Church\, 132 E Valley Forge Rd\, King of Prussia\, 19406\, United States
END:VEVENT
BEGIN:VEVENT
DTSTART;TZID=UTC:20240122T193000
DTEND;TZID=UTC:20240122T203000
DTSTAMP:20260421T161706
CREATED:20231205T034841Z
LAST-MODIFIED:20231205T034841Z
UID:2051-1705951800-1705955400@umdems.org
SUMMARY:UMADC Monthly Business Meeting
DESCRIPTION:Come join us at our monthly meeting to learn about upcoming elections\, candidates for office\, and local events.
URL:https://umdems.org/event/umadc-monthly-business-meeting/
LOCATION:Good Shepherd Lutheran Church\, 132 E Valley Forge Rd\, King of Prussia\, 19406\, United States
END:VEVENT
BEGIN:VEVENT
DTSTART;TZID=America/New_York:20240115T190000
DTEND;TZID=America/New_York:20240115T200000
DTSTAMP:20260421T161706
CREATED:20240103T163215Z
LAST-MODIFIED:20240104T194707Z
UID:2247-1705345200-1705348800@umdems.org
SUMMARY:MCDC Attorney General Forum
DESCRIPTION:In advance of our 2024 Endorsement Convention\, the Montgomery County Democratic Committee will host an Attorney General Candidate Forum. The Forum will take place online on Monday\, January 15 at 7:00 PM and will be moderated by Rep. Napoleon Nelson\, Chair of the PA Legislative Black Caucus\, and Kathleen Wilkinson\, Lower Merion Democratic Committeeperson and Past President of the PA Bar Association and Past Chancellor of the Philadelphia Bar Association. \nThe Zoom link will only be sent to registrants prior to the AG Forum. \nPlease fill out the Survey HERE\nPlease Register HERE
URL:https://umdems.org/event/mcdc-attorney-general-forum/
LOCATION:Zoom
END:VEVENT
BEGIN:VEVENT
DTSTART;TZID=America/New_York:20231219T193000
DTEND;TZID=America/New_York:20231219T203000
DTSTAMP:20260421T161706
CREATED:20231205T195831Z
LAST-MODIFIED:20231205T195928Z
UID:2127-1703014200-1703017800@umdems.org
SUMMARY:Bridgeport Borough Council Meeting
DESCRIPTION:
URL:https://umdems.org/event/bridgeport-borough-council-meeting-2/
LOCATION:Bridgeport Borough Hall\, 63 W. Fourth Street\, Bridgeport\, PA\, 19405\, United States
END:VEVENT
BEGIN:VEVENT
DTSTART;TZID=America/New_York:20231212T193000
DTEND;TZID=America/New_York:20231212T193000
DTSTAMP:20260421T161706
CREATED:20231205T195744Z
LAST-MODIFIED:20231205T195744Z
UID:2124-1702409400-1702409400@umdems.org
SUMMARY:Bridgeport Borough Council Meeting
DESCRIPTION:
URL:https://umdems.org/event/bridgeport-borough-council-meeting/
LOCATION:Bridgeport Borough Hall\, 63 W. Fourth Street\, Bridgeport\, PA\, 19405\, United States
END:VEVENT
BEGIN:VEVENT
DTSTART;TZID=America/New_York:20231212T190000
DTEND;TZID=America/New_York:20231212T200000
DTSTAMP:20260421T161706
CREATED:20231205T200117Z
LAST-MODIFIED:20231205T200117Z
UID:2129-1702407600-1702411200@umdems.org
SUMMARY:West Conshohocken Borough Council Meeting
DESCRIPTION:
URL:https://umdems.org/event/west-conshohocken-borough-council-meeting/
LOCATION:West Coshohocken Borough Hall\, 112 Ford St.\, West Conshohocken\, PA\, 19428\, United States
END:VEVENT
BEGIN:VEVENT
DTSTART;TZID=America/New_York:20231207T190000
DTEND;TZID=America/New_York:20231207T200000
DTSTAMP:20260421T161706
CREATED:20231205T195554Z
LAST-MODIFIED:20231205T195902Z
UID:2118-1701975600-1701979200@umdems.org
SUMMARY:Upper Merion Board of Supervisors Meeting (Hearing & Adoption of 2024 Budget)
DESCRIPTION:
URL:https://umdems.org/event/upper-merion-board-of-supervisors-meeting-hearing-adoption-of-2024-budget/
LOCATION:Freedom Hall (upper level)\, 175 W Valley Forge Rd.\, King of Prussia\, 19406\, United States
END:VEVENT
END:VCALENDAR