BEGIN:VCALENDAR
VERSION:2.0
PRODID:-//Upper Merion Area Democratic Committee - ECPv6.15.19//NONSGML v1.0//EN
CALSCALE:GREGORIAN
METHOD:PUBLISH
X-ORIGINAL-URL:https://umdems.org
X-WR-CALDESC:Events for Upper Merion Area Democratic Committee
REFRESH-INTERVAL;VALUE=DURATION:PT1H
X-Robots-Tag:noindex
X-PUBLISHED-TTL:PT1H
BEGIN:VTIMEZONE
TZID:America/New_York
BEGIN:DAYLIGHT
TZOFFSETFROM:-0500
TZOFFSETTO:-0400
TZNAME:EDT
DTSTART:20220313T070000
END:DAYLIGHT
BEGIN:STANDARD
TZOFFSETFROM:-0400
TZOFFSETTO:-0500
TZNAME:EST
DTSTART:20221106T060000
END:STANDARD
BEGIN:DAYLIGHT
TZOFFSETFROM:-0500
TZOFFSETTO:-0400
TZNAME:EDT
DTSTART:20230312T070000
END:DAYLIGHT
BEGIN:STANDARD
TZOFFSETFROM:-0400
TZOFFSETTO:-0500
TZNAME:EST
DTSTART:20231105T060000
END:STANDARD
BEGIN:DAYLIGHT
TZOFFSETFROM:-0500
TZOFFSETTO:-0400
TZNAME:EDT
DTSTART:20240310T070000
END:DAYLIGHT
BEGIN:STANDARD
TZOFFSETFROM:-0400
TZOFFSETTO:-0500
TZNAME:EST
DTSTART:20241103T060000
END:STANDARD
BEGIN:DAYLIGHT
TZOFFSETFROM:-0500
TZOFFSETTO:-0400
TZNAME:EDT
DTSTART:20250309T070000
END:DAYLIGHT
BEGIN:STANDARD
TZOFFSETFROM:-0400
TZOFFSETTO:-0500
TZNAME:EST
DTSTART:20251102T060000
END:STANDARD
BEGIN:DAYLIGHT
TZOFFSETFROM:-0500
TZOFFSETTO:-0400
TZNAME:EDT
DTSTART:20260308T070000
END:DAYLIGHT
BEGIN:STANDARD
TZOFFSETFROM:-0400
TZOFFSETTO:-0500
TZNAME:EST
DTSTART:20261101T060000
END:STANDARD
END:VTIMEZONE
BEGIN:VTIMEZONE
TZID:UTC
BEGIN:STANDARD
TZOFFSETFROM:+0000
TZOFFSETTO:+0000
TZNAME:UTC
DTSTART:20230101T000000
END:STANDARD
END:VTIMEZONE
BEGIN:VEVENT
DTSTART;TZID=America/New_York:20250629T180000
DTEND;TZID=America/New_York:20250629T210000
DTSTAMP:20260421T141602
CREATED:20250512T140739Z
LAST-MODIFIED:20250512T140805Z
UID:2701-1751220000-1751230800@umdems.org
SUMMARY:UMADC Summer Party
DESCRIPTION:Free to everyone but donations to UM Area Dems encouraged \nLots of food\, drinks and a chance to join forces with like minded neighbors and get involved in local actions \nBest Protest Sign Competition – Bring your best protest sign and win 2 tickets to a Theater Horizon production \nInvited guests include:\nElected officials\nCandidates\nUM Area Committee People\nFighters for Democracy \nFormal invite to follow…
URL:https://umdems.org/event/umadc-summer-party/
ATTACH;FMTTYPE=image/jpeg:https://umdems.org/wp-content/uploads/2025/05/unnamed.jpg
END:VEVENT
BEGIN:VEVENT
DTSTART;TZID=America/New_York:20250227T173000
DTEND;TZID=America/New_York:20250227T200000
DTSTAMP:20260421T141602
CREATED:20250120T175851Z
LAST-MODIFIED:20250224T162511Z
UID:2555-1740677400-1740686400@umdems.org
SUMMARY:Petition Signing Party
DESCRIPTION:Come on out to Screwballs on Thursday\, February 27 for the most fun you- and your registered Democratic Party friends- will ever have signing endorsement petitions! \nWe’ll have food and drinks with many candidates for local office in attendance. We’re hoping that you\, as a registered Democratic Party voter in Upper Merion\, Bridgeport or West Conshohocken\, can come on out and bring other registered Democratic Party voters who live in our area with you. \nThe event starts at 5:30 p.m. and runs until 8:00 p.m. It should take no more than 15 minutes to sign all the petitions you want to. We‘ll have great Screwballs bar fare to eat and libations will be available.
URL:https://umdems.org/event/petition-signing-party/
LOCATION:Screwballs Sports Bar and Grille\, 216 West Beidler Rd.\, King of Prussia\, PA\, 19406
END:VEVENT
BEGIN:VEVENT
DTSTART;TZID=America/New_York:20250218T173000
DTEND;TZID=America/New_York:20250218T203000
DTSTAMP:20260421T141602
CREATED:20250120T175943Z
LAST-MODIFIED:20250208T141414Z
UID:2557-1739899800-1739910600@umdems.org
SUMMARY:MCDC Endorsement Convention
DESCRIPTION:Please note that ALL committee members are required to attend. If you are not available for one or both please make arrangements for a proxy. \nDoors Open: 5:30 PM\nGavel In: 7:00 PM \nWho Can Attend?\nThe event is open to all Democrats—whether you’re a longtime supporter or newly involved\, we’d love to see you there! \nWho Can Vote?\nVoting is limited to Committee Persons\, Municipal Chairs\, Area Leaders\, and Area Representatives\, or their duly-authorized proxies. Proxy form can be found HERE. 
URL:https://umdems.org/event/mcdc-endorsement-convention/
LOCATION:North Penn High School\, 1340 S. Valley Forge Road\, Lansdale\, PA\, 19446
END:VEVENT
BEGIN:VEVENT
DTSTART;TZID=America/New_York:20250127T193000
DTEND;TZID=America/New_York:20250127T203000
DTSTAMP:20260421T141602
CREATED:20250120T175750Z
LAST-MODIFIED:20250120T175818Z
UID:2551-1738006200-1738009800@umdems.org
SUMMARY:January Business Meeting
DESCRIPTION:Please note the change of location for our January Business Meeting. \nAll subsequent 2025 business meetings will be back at Good Shepherd Lutheran Church. \nPlease make every effort to attend the January meeting as it may be the only opportunity to hear from candidates running for local and county offices in 2025.
URL:https://umdems.org/event/january-business-meeting/
LOCATION:Freedom Hall\, Upper Merion Township Building\, 175 W Valley Forge Rd\, King of Prussia\, PA\, 19406
END:VEVENT
BEGIN:VEVENT
DTSTART;TZID=America/New_York:20241125T193000
DTEND;TZID=America/New_York:20241125T203000
DTSTAMP:20260421T141602
CREATED:20231207T184128Z
LAST-MODIFIED:20231207T185340Z
UID:2201-1732563000-1732566600@umdems.org
SUMMARY:UMADC Monthly Business Meeting
DESCRIPTION:Come join us at our monthly meeting to learn about upcoming elections\, candidates for office\, and local events.
URL:https://umdems.org/event/umadc-monthly-business-meeting-7/
LOCATION:Good Shepherd Lutheran Church\, 132 E Valley Forge Rd\, King of Prussia\, 19406\, United States
END:VEVENT
BEGIN:VEVENT
DTSTART;VALUE=DATE:20241105
DTEND;VALUE=DATE:20241106
DTSTAMP:20260421T141602
CREATED:20240305T212759Z
LAST-MODIFIED:20240305T212759Z
UID:2411-1730764800-1730851199@umdems.org
SUMMARY:General Election Day
DESCRIPTION:
URL:https://umdems.org/event/general-election-day/
END:VEVENT
BEGIN:VEVENT
DTSTART;TZID=America/New_York:20241028T193000
DTEND;TZID=America/New_York:20241028T203000
DTSTAMP:20260421T141602
CREATED:20231207T184047Z
LAST-MODIFIED:20231207T184047Z
UID:2204-1730143800-1730147400@umdems.org
SUMMARY:UMADC Monthly Business Meeting
DESCRIPTION:
URL:https://umdems.org/event/umadc-monthly-business-meeting-6/
LOCATION:Good Shepherd Lutheran Church\, 132 E Valley Forge Rd\, King of Prussia\, 19406\, United States
END:VEVENT
BEGIN:VEVENT
DTSTART;TZID=America/New_York:20240923T193000
DTEND;TZID=America/New_York:20240923T203000
DTSTAMP:20260421T141602
CREATED:20231207T184011Z
LAST-MODIFIED:20231207T185346Z
UID:2202-1727119800-1727123400@umdems.org
SUMMARY:UMADC Monthly Business Meeting
DESCRIPTION:Come join us at our monthly meeting to learn about upcoming elections\, candidates for office\, and local events.
URL:https://umdems.org/event/umadc-monthly-business-meeting-5/
LOCATION:Good Shepherd Lutheran Church\, 132 E Valley Forge Rd\, King of Prussia\, 19406\, United States
END:VEVENT
BEGIN:VEVENT
DTSTART;TZID=America/New_York:20240826T193000
DTEND;TZID=America/New_York:20240826T203000
DTSTAMP:20260421T141602
CREATED:20231207T183844Z
LAST-MODIFIED:20231207T185350Z
UID:2199-1724700600-1724704200@umdems.org
SUMMARY:UMADC Monthly Business Meeting
DESCRIPTION:Come join us at our monthly meeting to learn about upcoming elections\, candidates for office\, and local events.
URL:https://umdems.org/event/umadc-monthly-business-meeting-4/
LOCATION:Good Shepherd Lutheran Church\, 132 E Valley Forge Rd\, King of Prussia\, 19406\, United States
END:VEVENT
BEGIN:VEVENT
DTSTART;TZID=America/New_York:20240529T193000
DTEND;TZID=America/New_York:20240529T203000
DTSTAMP:20260421T141602
CREATED:20231207T183755Z
LAST-MODIFIED:20231207T185354Z
UID:2197-1717011000-1717014600@umdems.org
SUMMARY:UMADC Monthly Business Meeting *Wednesday*
DESCRIPTION:Come join us at our monthly meeting to learn about upcoming elections\, candidates for office\, and local events.
URL:https://umdems.org/event/umadc-monthly-business-meeting-wednesday-2/
LOCATION:Good Shepherd Lutheran Church\, 132 E Valley Forge Rd\, King of Prussia\, 19406\, United States
END:VEVENT
BEGIN:VEVENT
DTSTART;TZID=UTC:20240429T193000
DTEND;TZID=UTC:20240429T203000
DTSTAMP:20260421T141602
CREATED:20231205T004550Z
LAST-MODIFIED:20240402T010410Z
UID:2074-1714419000-1714422600@umdems.org
SUMMARY:UMADC Monthly Business Meeting *Wednesday*
DESCRIPTION:Come join us at our monthly meeting to learn about upcoming elections\, candidates for office\, and local events.
URL:https://umdems.org/event/umadc-monthly-business-meeting-wednesday/
LOCATION:Good Shepherd Lutheran Church\, 132 E Valley Forge Rd\, King of Prussia\, 19406\, United States
END:VEVENT
BEGIN:VEVENT
DTSTART;VALUE=DATE:20240423
DTEND;VALUE=DATE:20240424
DTSTAMP:20260421T141602
CREATED:20240305T212659Z
LAST-MODIFIED:20240305T212659Z
UID:2409-1713830400-1713916799@umdems.org
SUMMARY:Pennsylvania Primary
DESCRIPTION:
URL:https://umdems.org/event/pennsylvania-primary/
END:VEVENT
BEGIN:VEVENT
DTSTART;TZID=UTC:20240325T193000
DTEND;TZID=UTC:20240325T203000
DTSTAMP:20260421T141602
CREATED:20231205T004459Z
LAST-MODIFIED:20231205T004500Z
UID:2072-1711395000-1711398600@umdems.org
SUMMARY:UMADC Monthly Business Meeting
DESCRIPTION:Come join us at our monthly meeting to learn about upcoming elections\, candidates for office\, and local events.
URL:https://umdems.org/event/umadc-monthly-business-meeting-3/
LOCATION:Good Shepherd Lutheran Church\, 132 E Valley Forge Rd\, King of Prussia\, 19406\, United States
END:VEVENT
BEGIN:VEVENT
DTSTART;TZID=UTC:20240226T193000
DTEND;TZID=UTC:20240226T203000
DTSTAMP:20260421T141602
CREATED:20231205T004414Z
LAST-MODIFIED:20231205T004414Z
UID:2067-1708975800-1708979400@umdems.org
SUMMARY:UMADC Monthly Business Meeting
DESCRIPTION:Come join us at our monthly meeting to learn about upcoming elections\, candidates for office\, and local events.
URL:https://umdems.org/event/umadc-monthly-business-meeting-2/
LOCATION:Good Shepherd Lutheran Church\, 132 E Valley Forge Rd\, King of Prussia\, 19406\, United States
END:VEVENT
BEGIN:VEVENT
DTSTART;TZID=UTC:20240122T193000
DTEND;TZID=UTC:20240122T203000
DTSTAMP:20260421T141602
CREATED:20231205T034841Z
LAST-MODIFIED:20231205T034841Z
UID:2051-1705951800-1705955400@umdems.org
SUMMARY:UMADC Monthly Business Meeting
DESCRIPTION:Come join us at our monthly meeting to learn about upcoming elections\, candidates for office\, and local events.
URL:https://umdems.org/event/umadc-monthly-business-meeting/
LOCATION:Good Shepherd Lutheran Church\, 132 E Valley Forge Rd\, King of Prussia\, 19406\, United States
END:VEVENT
BEGIN:VEVENT
DTSTART;TZID=America/New_York:20240115T190000
DTEND;TZID=America/New_York:20240115T200000
DTSTAMP:20260421T141602
CREATED:20240103T163215Z
LAST-MODIFIED:20240104T194707Z
UID:2247-1705345200-1705348800@umdems.org
SUMMARY:MCDC Attorney General Forum
DESCRIPTION:In advance of our 2024 Endorsement Convention\, the Montgomery County Democratic Committee will host an Attorney General Candidate Forum. The Forum will take place online on Monday\, January 15 at 7:00 PM and will be moderated by Rep. Napoleon Nelson\, Chair of the PA Legislative Black Caucus\, and Kathleen Wilkinson\, Lower Merion Democratic Committeeperson and Past President of the PA Bar Association and Past Chancellor of the Philadelphia Bar Association. \nThe Zoom link will only be sent to registrants prior to the AG Forum. \nPlease fill out the Survey HERE\nPlease Register HERE
URL:https://umdems.org/event/mcdc-attorney-general-forum/
LOCATION:Zoom
END:VEVENT
BEGIN:VEVENT
DTSTART;TZID=America/New_York:20231219T193000
DTEND;TZID=America/New_York:20231219T203000
DTSTAMP:20260421T141602
CREATED:20231205T195831Z
LAST-MODIFIED:20231205T195928Z
UID:2127-1703014200-1703017800@umdems.org
SUMMARY:Bridgeport Borough Council Meeting
DESCRIPTION:
URL:https://umdems.org/event/bridgeport-borough-council-meeting-2/
LOCATION:Bridgeport Borough Hall\, 63 W. Fourth Street\, Bridgeport\, PA\, 19405\, United States
END:VEVENT
BEGIN:VEVENT
DTSTART;TZID=America/New_York:20231212T193000
DTEND;TZID=America/New_York:20231212T193000
DTSTAMP:20260421T141602
CREATED:20231205T195744Z
LAST-MODIFIED:20231205T195744Z
UID:2124-1702409400-1702409400@umdems.org
SUMMARY:Bridgeport Borough Council Meeting
DESCRIPTION:
URL:https://umdems.org/event/bridgeport-borough-council-meeting/
LOCATION:Bridgeport Borough Hall\, 63 W. Fourth Street\, Bridgeport\, PA\, 19405\, United States
END:VEVENT
BEGIN:VEVENT
DTSTART;TZID=America/New_York:20231212T190000
DTEND;TZID=America/New_York:20231212T200000
DTSTAMP:20260421T141602
CREATED:20231205T200117Z
LAST-MODIFIED:20231205T200117Z
UID:2129-1702407600-1702411200@umdems.org
SUMMARY:West Conshohocken Borough Council Meeting
DESCRIPTION:
URL:https://umdems.org/event/west-conshohocken-borough-council-meeting/
LOCATION:West Coshohocken Borough Hall\, 112 Ford St.\, West Conshohocken\, PA\, 19428\, United States
END:VEVENT
BEGIN:VEVENT
DTSTART;TZID=America/New_York:20231207T190000
DTEND;TZID=America/New_York:20231207T200000
DTSTAMP:20260421T141602
CREATED:20231205T195554Z
LAST-MODIFIED:20231205T195902Z
UID:2118-1701975600-1701979200@umdems.org
SUMMARY:Upper Merion Board of Supervisors Meeting (Hearing & Adoption of 2024 Budget)
DESCRIPTION:
URL:https://umdems.org/event/upper-merion-board-of-supervisors-meeting-hearing-adoption-of-2024-budget/
LOCATION:Freedom Hall (upper level)\, 175 W Valley Forge Rd.\, King of Prussia\, 19406\, United States
END:VEVENT
END:VCALENDAR